BEGIN:VCALENDAR
VERSION:2.0
PRODID:-//African Endeavors - ECPv6.15.17//NONSGML v1.0//EN
CALSCALE:GREGORIAN
METHOD:PUBLISH
X-ORIGINAL-URL:https://africanendeavors.co.za
X-WR-CALDESC:Events for African Endeavors
REFRESH-INTERVAL;VALUE=DURATION:PT1H
X-Robots-Tag:noindex
X-PUBLISHED-TTL:PT1H
BEGIN:VTIMEZONE
TZID:Africa/Johannesburg
BEGIN:STANDARD
TZOFFSETFROM:+0200
TZOFFSETTO:+0200
TZNAME:SAST
DTSTART:20250101T000000
END:STANDARD
END:VTIMEZONE
BEGIN:VEVENT
DTSTART;TZID=Africa/Johannesburg:20260424T080000
DTEND;TZID=Africa/Johannesburg:20260426T170000
DTSTAMP:20260421T150031
CREATED:20260305T083126Z
LAST-MODIFIED:20260305T083126Z
UID:2968-1777017600-1777222800@africanendeavors.co.za
SUMMARY:Maluti
DESCRIPTION:Set against the backdrop of the majestic Maluti Mountains\, in the heart of the Eastern Free State and bordering on Lesotho\, the rugged and challenging dirt bike trails around Clarens and Fouriesburg offer an unforgettable off-road adventure that pushes the limits of both rider and machine as they wind through some of the most remote and awe-inspiring landscapes. \nThe terrain is a true test for riders seeking both thrill and beauty. These trails take you through an ever-changing environment that demands focus\, skill\, and resilience. Steep mountain passes\, rocky paths\, and deep ravines will challenge even the most experienced riders\, while offering moments of pure exhilaration as you conquer each obstacle. The diverse nature of the trails ensures that there’s something for every rider. \nThe towering peaks and rugged beauty of the Maluti Mountains serve as a constant\, majestic presence on the horizon\, contrasted against the vibrant painted shades of green\, gold and red of the rocky outcrops and deep gorges. The rocky hillsides and winding dirt tracks force you to be fully present in the moment\, making each ride an adventure that stretches your limits and rewards you with a deep sense of achievement. With the demanding climbs and descents that the area is known for\, many local and international riders use this area as a training ground for the “Roof Of Africa”\, known as the mother of Hard Enduro. \nWhether you are an adrenaline driven rock rabbit or a chilled out weekend warrior that enjoys the vast open skies our trails offer something for you. \nDownload Preparation Guide \nBook Now \n  \nDistance: 2 Day \nEstimated ride time: 2 Days \nIncluded in the tour \n\nAccommodation – Dormitory type bunk beds\nMeals\nGuide/s\nRefundable Insurance Excess (Please refer to our terms)\n\nExcluded from tour \n\nMotorcycle\nRiding Gear\nFuel\nOil\nDrinks\nTransport to and from venue\nTips and Gratuities\nBike recovery\nMedical Insurance\n\nBike preparation \nWe always recommend that riders wishing to join this ride run Mousse or Tubeliss systems in the tyres. However we have done a number of rides using heavy duty tubes and Slime. We cannot guarantee that you won’t get stranded because of a flat. \nWe also recommend that riders mount handguards onto the handlebars to prevent your hands from being peppered by thorns. \nMX Bikes are welcome but may suffer in the tighter sections due to the gear ratios. This\, ride is not suitable for adventure style bikes or Quad bikes \nWe Recommend a bash plate and Pipe guard \nWhat to bring \n\nYour own well maintained off road motorcycle.\nMobile phone\nA backpack with a suitable drinking system containing at least one litre of hydration. We recommend you mix in some Re-Hydrate as a precaution. Summer days can be taxing if not properly hydrated.\nCash for refreshments at the halfway point\nCash for Fuel. Two Stroke oil for refuel if needed.\nA full tank of fuel or enough to cover at least 60 km.\nFuel Canister with spare fuel.\nGood Off-Road style motorcycle Helmet. Open face is not recommended. No helmet no ride\nGood set of goggles\, Protective Motocross style Boots only – No casual style boots. You will break your ankle. No boots\, no ride.\nWe do recommend a good set of Knee Guards or knee braces\nWe do recommend a chest protector.\n\nBook Now
URL:https://africanendeavors.co.za/tour/maluti-5/
CATEGORIES:Dirt Bike Tours
ATTACH;FMTTYPE=image/jpeg:https://africanendeavors.co.za/wp-content/uploads/2026/02/516715670_10163332955593373_4706942700094611024_n.jpg
ORGANIZER;CN="African Endeavors":MAILTO:info@africanendeavors.co.za
END:VEVENT
END:VCALENDAR